Package: KBoost Version: 1.15.0 Command: /Library/Frameworks/R.framework/Resources/bin/R CMD check --install=check:KBoost.install-out.txt --library=/Library/Frameworks/R.framework/Resources/library --no-vignettes --timings KBoost_1.15.0.tar.gz StartedAt: 2025-02-19 21:14:34 -0500 (Wed, 19 Feb 2025) EndedAt: 2025-02-19 21:15:19 -0500 (Wed, 19 Feb 2025) EllapsedTime: 44.9 seconds RetCode: 0 Status: OK CheckDir: KBoost.Rcheck Warnings: 0