Package: KBoost Version: 1.15.0 Command: rm -rf KBoost.buildbin-libdir && mkdir KBoost.buildbin-libdir && /Users/biocbuild/BBS/utils/build-universal.sh KBoost_1.15.0.tar.gz /Library/Frameworks/R.framework/Resources/bin/R KBoost.buildbin-libdir StartedAt: 2025-02-20 00:38:15 -0500 (Thu, 20 Feb 2025) EndedAt: 2025-02-20 00:38:21 -0500 (Thu, 20 Feb 2025) EllapsedTime: 5.8 seconds RetCode: 0 Status: OK PackageFile: KBoost_1.15.0.tgz PackageFileSize: 575.9 KiB