Package: IsoformSwitchAnalyzeR Version: 2.7.0 Command: E:\biocbuild\bbs-3.21-bioc\R\bin\R.exe CMD INSTALL IsoformSwitchAnalyzeR StartedAt: 2025-02-19 16:42:54 -0500 (Wed, 19 Feb 2025) EndedAt: 2025-02-19 16:47:11 -0500 (Wed, 19 Feb 2025) EllapsedTime: 257.6 seconds RetCode: 0 Status: OK