Package: IsoformSwitchAnalyzeR Version: 2.7.0 Command: E:\biocbuild\bbs-3.21-bioc\R\bin\R.exe CMD check --no-multiarch --install=check:IsoformSwitchAnalyzeR.install-out.txt --library=E:\biocbuild\bbs-3.21-bioc\R\library --no-vignettes --timings IsoformSwitchAnalyzeR_2.7.0.tar.gz StartedAt: 2025-02-21 02:34:54 -0500 (Fri, 21 Feb 2025) EndedAt: 2025-02-21 02:47:41 -0500 (Fri, 21 Feb 2025) EllapsedTime: 767.9 seconds RetCode: 0 Status: OK CheckDir: IsoformSwitchAnalyzeR.Rcheck Warnings: 0