Package: IsoformSwitchAnalyzeR Version: 2.7.0 Command: /Library/Frameworks/R.framework/Resources/bin/R CMD build --keep-empty-dirs --no-resave-data IsoformSwitchAnalyzeR StartedAt: 2025-02-20 16:45:06 -0500 (Thu, 20 Feb 2025) EndedAt: 2025-02-20 16:46:30 -0500 (Thu, 20 Feb 2025) EllapsedTime: 84.0 seconds RetCode: 0 Status: OK PackageFile: IsoformSwitchAnalyzeR_2.7.0.tar.gz PackageFileSize: 6.597 MiB