Package: IsoformSwitchAnalyzeR Version: 2.7.0 Command: rm -rf IsoformSwitchAnalyzeR.buildbin-libdir && mkdir IsoformSwitchAnalyzeR.buildbin-libdir && /Users/biocbuild/BBS/utils/build-universal.sh IsoformSwitchAnalyzeR_2.7.0.tar.gz /Library/Frameworks/R.framework/Resources/bin/R IsoformSwitchAnalyzeR.buildbin-libdir StartedAt: 2025-02-20 22:23:22 -0500 (Thu, 20 Feb 2025) EndedAt: 2025-02-20 22:23:49 -0500 (Thu, 20 Feb 2025) EllapsedTime: 27.6 seconds RetCode: 0 Status: OK PackageFile: IsoformSwitchAnalyzeR_2.7.0.tgz PackageFileSize: 7.398 MiB