Package: IsoCorrectoRGUI Version: 1.23.0 Command: E:\biocbuild\bbs-3.21-bioc\R\bin\R.exe CMD INSTALL IsoCorrectoRGUI StartedAt: 2025-02-20 15:41:22 -0500 (Thu, 20 Feb 2025) EndedAt: 2025-02-20 15:41:59 -0500 (Thu, 20 Feb 2025) EllapsedTime: 36.7 seconds RetCode: 0 Status: OK