Package: IsoCorrectoRGUI Version: 1.23.0 Command: /home/biocbuild/bbs-3.21-bioc/R/bin/R CMD check --install=check:IsoCorrectoRGUI.install-out.txt --library=/home/biocbuild/bbs-3.21-bioc/R/site-library --timings IsoCorrectoRGUI_1.23.0.tar.gz StartedAt: 2025-02-20 23:02:26 -0500 (Thu, 20 Feb 2025) EndedAt: 2025-02-20 23:03:00 -0500 (Thu, 20 Feb 2025) EllapsedTime: 34.0 seconds RetCode: 0 Status: OK CheckDir: IsoCorrectoRGUI.Rcheck Warnings: 0