Package: IsoCorrectoRGUI Version: 1.23.0 Command: /Library/Frameworks/R.framework/Resources/bin/R CMD INSTALL IsoCorrectoRGUI StartedAt: 2025-02-20 15:05:03 -0500 (Thu, 20 Feb 2025) EndedAt: 2025-02-20 15:05:06 -0500 (Thu, 20 Feb 2025) EllapsedTime: 2.5 seconds RetCode: 0 Status: OK