Package: IntramiRExploreR Version: 1.29.0 Command: E:\biocbuild\bbs-3.21-bioc\R\bin\R.exe CMD check --no-multiarch --install=check:IntramiRExploreR.install-out.txt --library=E:\biocbuild\bbs-3.21-bioc\R\library --no-vignettes --timings IntramiRExploreR_1.29.0.tar.gz StartedAt: 2025-02-21 02:28:53 -0500 (Fri, 21 Feb 2025) EndedAt: 2025-02-21 02:30:07 -0500 (Fri, 21 Feb 2025) EllapsedTime: 73.3 seconds RetCode: 0 Status: WARNINGS CheckDir: IntramiRExploreR.Rcheck Warnings: 2