Package: IntramiRExploreR Version: 1.29.0 Command: /home/biocbuild/bbs-3.21-bioc/R/bin/R CMD INSTALL IntramiRExploreR StartedAt: 2025-02-20 15:19:53 -0500 (Thu, 20 Feb 2025) EndedAt: 2025-02-20 15:20:04 -0500 (Thu, 20 Feb 2025) EllapsedTime: 11.0 seconds RetCode: 0 Status: OK