Package: IntramiRExploreR Version: 1.29.0 Command: /home/biocbuild/bbs-3.21-bioc/R/bin/R CMD build --keep-empty-dirs --no-resave-data IntramiRExploreR StartedAt: 2025-02-20 17:54:22 -0500 (Thu, 20 Feb 2025) EndedAt: 2025-02-20 17:54:41 -0500 (Thu, 20 Feb 2025) EllapsedTime: 19.0 seconds RetCode: 0 Status: OK PackageFile: IntramiRExploreR_1.29.0.tar.gz PackageFileSize: 8.901 MiB