Package: IntramiRExploreR Version: 1.29.0 Command: rm -rf IntramiRExploreR.buildbin-libdir && mkdir IntramiRExploreR.buildbin-libdir && /Users/biocbuild/BBS/utils/build-universal.sh IntramiRExploreR_1.29.0.tar.gz /Library/Frameworks/R.framework/Resources/bin/R IntramiRExploreR.buildbin-libdir StartedAt: 2025-02-21 00:36:12 -0500 (Fri, 21 Feb 2025) EndedAt: 2025-02-21 00:36:29 -0500 (Fri, 21 Feb 2025) EllapsedTime: 17.2 seconds RetCode: 0 Status: OK PackageFile: IntramiRExploreR_1.29.0.tgz PackageFileSize: 13.35 MiB