Package: IntramiRExploreR Version: 1.29.0 Command: /Library/Frameworks/R.framework/Resources/bin/R CMD INSTALL IntramiRExploreR StartedAt: 2025-02-20 15:05:30 -0500 (Thu, 20 Feb 2025) EndedAt: 2025-02-20 15:05:37 -0500 (Thu, 20 Feb 2025) EllapsedTime: 6.7 seconds RetCode: 0 Status: OK