Package: IntramiRExploreR Version: 1.29.0 Command: /Library/Frameworks/R.framework/Resources/bin/R CMD check --install=check:IntramiRExploreR.install-out.txt --library=/Library/Frameworks/R.framework/Resources/library --no-vignettes --timings IntramiRExploreR_1.29.0.tar.gz StartedAt: 2025-02-20 19:48:57 -0500 (Thu, 20 Feb 2025) EndedAt: 2025-02-20 19:49:20 -0500 (Thu, 20 Feb 2025) EllapsedTime: 23.2 seconds RetCode: 0 Status: WARNINGS CheckDir: IntramiRExploreR.Rcheck Warnings: 2