Package: InteractiveComplexHeatmap Version: 1.15.0 Command: E:\biocbuild\bbs-3.21-bioc\R\bin\R.exe CMD INSTALL InteractiveComplexHeatmap StartedAt: 2025-02-19 16:13:35 -0500 (Wed, 19 Feb 2025) EndedAt: 2025-02-19 16:18:59 -0500 (Wed, 19 Feb 2025) EllapsedTime: 324.0 seconds RetCode: 0 Status: OK