Package: InteractiveComplexHeatmap Version: 1.15.0 Command: chmod a+r InteractiveComplexHeatmap -R && E:\biocbuild\bbs-3.21-bioc\R\bin\R.exe CMD build --keep-empty-dirs --no-resave-data InteractiveComplexHeatmap StartedAt: 2025-02-19 19:26:47 -0500 (Wed, 19 Feb 2025) EndedAt: 2025-02-19 19:28:15 -0500 (Wed, 19 Feb 2025) EllapsedTime: 87.8 seconds RetCode: 0 Status: OK PackageFile: InteractiveComplexHeatmap_1.15.0.tar.gz PackageFileSize: 886.7 KiB