Package: InterCellar Version: 2.13.0 Command: E:\biocbuild\bbs-3.21-bioc\R\bin\R.exe CMD check --no-multiarch --install=check:InterCellar.install-out.txt --library=E:\biocbuild\bbs-3.21-bioc\R\library --no-vignettes --timings InterCellar_2.13.0.tar.gz StartedAt: 2025-02-21 02:28:35 -0500 (Fri, 21 Feb 2025) EndedAt: 2025-02-21 02:32:01 -0500 (Fri, 21 Feb 2025) EllapsedTime: 205.9 seconds RetCode: 0 Status: OK CheckDir: InterCellar.Rcheck Warnings: 0