Package: InterCellar Version: 2.13.0 Command: /home/biocbuild/bbs-3.21-bioc/R/bin/R CMD INSTALL InterCellar StartedAt: 2025-02-20 15:35:26 -0500 (Thu, 20 Feb 2025) EndedAt: 2025-02-20 15:35:53 -0500 (Thu, 20 Feb 2025) EllapsedTime: 27.1 seconds RetCode: 0 Status: OK