Package: InterCellar Version: 2.13.0 Command: /home/biocbuild/bbs-3.21-bioc/R/bin/R CMD build --keep-empty-dirs --no-resave-data InterCellar StartedAt: 2025-02-20 17:54:16 -0500 (Thu, 20 Feb 2025) EndedAt: 2025-02-20 17:54:52 -0500 (Thu, 20 Feb 2025) EllapsedTime: 36.0 seconds RetCode: 0 Status: OK PackageFile: InterCellar_2.13.0.tar.gz PackageFileSize: 4.016 MiB