Package: InterCellar Version: 2.13.0 Command: /Library/Frameworks/R.framework/Resources/bin/R CMD INSTALL InterCellar StartedAt: 2025-02-20 15:42:42 -0500 (Thu, 20 Feb 2025) EndedAt: 2025-02-20 15:43:18 -0500 (Thu, 20 Feb 2025) EllapsedTime: 36.1 seconds RetCode: 0 Status: OK