Package: InterCellar Version: 2.13.0 Command: /home/biocbuild/R/R/bin/R CMD build --keep-empty-dirs --no-resave-data InterCellar StartedAt: 2025-01-28 23:46:58 -0000 (Tue, 28 Jan 2025) EndedAt: 2025-01-28 23:47:50 -0000 (Tue, 28 Jan 2025) EllapsedTime: 52.0 seconds RetCode: 0 Status: OK PackageFile: InterCellar_2.13.0.tar.gz PackageFileSize: 4.078 MiB