Package: InterCellar Version: 2.13.0 Command: /Library/Frameworks/R.framework/Resources/bin/R CMD build --keep-empty-dirs --no-resave-data InterCellar StartedAt: 2025-02-20 16:43:39 -0500 (Thu, 20 Feb 2025) EndedAt: 2025-02-20 16:43:54 -0500 (Thu, 20 Feb 2025) EllapsedTime: 15.2 seconds RetCode: 0 Status: OK PackageFile: InterCellar_2.13.0.tar.gz PackageFileSize: 4.016 MiB