Package: IntEREst Version: 1.31.1 Command: E:\biocbuild\bbs-3.21-bioc\R\bin\R.exe CMD INSTALL IntEREst StartedAt: 2025-02-20 16:34:09 -0500 (Thu, 20 Feb 2025) EndedAt: 2025-02-20 16:35:15 -0500 (Thu, 20 Feb 2025) EllapsedTime: 66.7 seconds RetCode: 0 Status: OK