Package: IntEREst Version: 1.31.1 Command: E:\biocbuild\bbs-3.21-bioc\R\bin\R.exe CMD check --no-multiarch --install=check:IntEREst.install-out.txt --library=E:\biocbuild\bbs-3.21-bioc\R\library --no-vignettes --timings IntEREst_1.31.1.tar.gz StartedAt: 2025-02-21 02:28:38 -0500 (Fri, 21 Feb 2025) EndedAt: 2025-02-21 02:35:42 -0500 (Fri, 21 Feb 2025) EllapsedTime: 424.3 seconds RetCode: 0 Status: OK CheckDir: IntEREst.Rcheck Warnings: 0