Package: IntEREst Version: 1.31.1 Command: rm -rf IntEREst.buildbin-libdir && mkdir IntEREst.buildbin-libdir && E:\biocbuild\bbs-3.21-bioc\R\bin\R.exe CMD INSTALL --build --library=IntEREst.buildbin-libdir IntEREst_1.31.1.tar.gz StartedAt: 2025-02-21 08:20:50 -0500 (Fri, 21 Feb 2025) EndedAt: 2025-02-21 08:22:44 -0500 (Fri, 21 Feb 2025) EllapsedTime: 113.2 seconds RetCode: 0 Status: OK PackageFile: IntEREst_1.31.1.zip PackageFileSize: 1.787 MiB