Package: IntEREst Version: 1.31.1 Command: /home/biocbuild/bbs-3.21-bioc/R/bin/R CMD build --keep-empty-dirs --no-resave-data IntEREst StartedAt: 2025-02-21 18:14:57 -0500 (Fri, 21 Feb 2025) EndedAt: 2025-02-21 18:16:27 -0500 (Fri, 21 Feb 2025) EllapsedTime: 90.1 seconds RetCode: 0 Status: OK PackageFile: IntEREst_1.31.1.tar.gz PackageFileSize: 1.422 MiB