Package: IntEREst Version: 1.31.1 Command: /Library/Frameworks/R.framework/Resources/bin/R CMD check --install=check:IntEREst.install-out.txt --library=/Library/Frameworks/R.framework/Resources/library --no-vignettes --timings IntEREst_1.31.1.tar.gz StartedAt: 2025-02-20 21:08:21 -0500 (Thu, 20 Feb 2025) EndedAt: 2025-02-20 21:14:50 -0500 (Thu, 20 Feb 2025) EllapsedTime: 389.2 seconds RetCode: 0 Status: OK CheckDir: IntEREst.Rcheck Warnings: 0