Package: IntEREst Version: 1.31.1 Command: rm -rf IntEREst.buildbin-libdir && mkdir IntEREst.buildbin-libdir && /Users/biocbuild/BBS/utils/build-universal.sh IntEREst_1.31.1.tar.gz /Library/Frameworks/R.framework/Resources/bin/R IntEREst.buildbin-libdir StartedAt: 2025-02-21 00:36:12 -0500 (Fri, 21 Feb 2025) EndedAt: 2025-02-21 00:37:27 -0500 (Fri, 21 Feb 2025) EllapsedTime: 74.5 seconds RetCode: 0 Status: OK PackageFile: IntEREst_1.31.1.tgz PackageFileSize: 1.906 MiB