Package: IntEREst Version: 1.31.1 Command: /Library/Frameworks/R.framework/Resources/bin/R CMD build --keep-empty-dirs --no-resave-data IntEREst StartedAt: 2025-02-21 16:43:07 -0500 (Fri, 21 Feb 2025) EndedAt: 2025-02-21 16:43:51 -0500 (Fri, 21 Feb 2025) EllapsedTime: 43.5 seconds RetCode: 0 Status: OK PackageFile: IntEREst_1.31.1.tar.gz PackageFileSize: 1.439 MiB