Package: Informeasure Version: 1.17.0 Command: /home/biocbuild/bbs-3.21-bioc/R/bin/R CMD INSTALL Informeasure StartedAt: 2025-02-17 15:02:26 -0500 (Mon, 17 Feb 2025) EndedAt: 2025-02-17 15:02:38 -0500 (Mon, 17 Feb 2025) EllapsedTime: 12.5 seconds RetCode: 0 Status: OK