Package: Informeasure Version: 1.17.0 Command: /home/biocbuild/bbs-3.21-bioc/R/bin/R CMD check --install=check:Informeasure.install-out.txt --library=/home/biocbuild/bbs-3.21-bioc/R/site-library --timings Informeasure_1.17.0.tar.gz StartedAt: 2025-02-17 23:07:26 -0500 (Mon, 17 Feb 2025) EndedAt: 2025-02-17 23:07:52 -0500 (Mon, 17 Feb 2025) EllapsedTime: 26.0 seconds RetCode: 0 Status: OK CheckDir: Informeasure.Rcheck Warnings: 0