Package: Informeasure Version: 1.17.0 Command: /Library/Frameworks/R.framework/Resources/bin/R CMD build --keep-empty-dirs --no-resave-data Informeasure StartedAt: 2025-02-17 17:03:29 -0500 (Mon, 17 Feb 2025) EndedAt: 2025-02-17 17:04:02 -0500 (Mon, 17 Feb 2025) EllapsedTime: 33.2 seconds RetCode: 0 Status: OK PackageFile: Informeasure_1.17.0.tar.gz PackageFileSize: 276.5 KiB