Package: Informeasure Version: 1.17.0 Command: /Library/Frameworks/R.framework/Resources/bin/R CMD INSTALL Informeasure StartedAt: 2025-02-17 15:01:34 -0500 (Mon, 17 Feb 2025) EndedAt: 2025-02-17 15:01:42 -0500 (Mon, 17 Feb 2025) EllapsedTime: 7.5 seconds RetCode: 0 Status: OK