Package: Informeasure Version: 1.17.0 Command: /Library/Frameworks/R.framework/Resources/bin/R CMD check --install=check:Informeasure.install-out.txt --library=/Library/Frameworks/R.framework/Resources/library --no-vignettes --timings Informeasure_1.17.0.tar.gz StartedAt: 2025-02-17 19:46:32 -0500 (Mon, 17 Feb 2025) EndedAt: 2025-02-17 19:46:44 -0500 (Mon, 17 Feb 2025) EllapsedTime: 11.1 seconds RetCode: 0 Status: OK CheckDir: Informeasure.Rcheck Warnings: 0