Package: Informeasure Version: 1.17.0 Command: /Library/Frameworks/R.framework/Resources/bin/R CMD build --keep-empty-dirs --no-resave-data Informeasure StartedAt: 2025-02-17 16:41:20 -0500 (Mon, 17 Feb 2025) EndedAt: 2025-02-17 16:41:25 -0500 (Mon, 17 Feb 2025) EllapsedTime: 5.1 seconds RetCode: 0 Status: OK PackageFile: Informeasure_1.17.0.tar.gz PackageFileSize: 276.6 KiB