Package: InTAD Version: 1.27.0 Command: E:\biocbuild\bbs-3.21-bioc\R\bin\R.exe CMD INSTALL InTAD StartedAt: 2025-02-17 16:12:24 -0500 (Mon, 17 Feb 2025) EndedAt: 2025-02-17 16:13:12 -0500 (Mon, 17 Feb 2025) EllapsedTime: 47.9 seconds RetCode: 0 Status: OK