Package: InTAD Version: 1.27.0 Command: /home/biocbuild/bbs-3.21-bioc/R/bin/R CMD build --keep-empty-dirs --no-resave-data InTAD StartedAt: 2025-02-19 17:44:47 -0500 (Wed, 19 Feb 2025) EndedAt: 2025-02-19 17:45:45 -0500 (Wed, 19 Feb 2025) EllapsedTime: 57.1 seconds RetCode: 0 Status: OK PackageFile: InTAD_1.27.0.tar.gz PackageFileSize: 1.184 MiB