Package: InTAD Version: 1.27.0 Command: /Library/Frameworks/R.framework/Resources/bin/R CMD check --install=check:InTAD.install-out.txt --library=/Library/Frameworks/R.framework/Resources/library --no-vignettes --timings InTAD_1.27.0.tar.gz StartedAt: 2025-02-17 21:03:02 -0500 (Mon, 17 Feb 2025) EndedAt: 2025-02-17 21:08:33 -0500 (Mon, 17 Feb 2025) EllapsedTime: 331.0 seconds RetCode: 0 Status: OK CheckDir: InTAD.Rcheck Warnings: 0