Package: InTAD Version: 1.27.0 Command: /Library/Frameworks/R.framework/Resources/bin/R CMD build --keep-empty-dirs --no-resave-data InTAD StartedAt: 2025-02-17 16:41:55 -0500 (Mon, 17 Feb 2025) EndedAt: 2025-02-17 16:42:18 -0500 (Mon, 17 Feb 2025) EllapsedTime: 23.2 seconds RetCode: 0 Status: OK PackageFile: InTAD_1.27.0.tar.gz PackageFileSize: 1.213 MiB