Package: InPAS Version: 2.15.2 Command: E:\biocbuild\bbs-3.21-bioc\R\bin\R.exe CMD INSTALL InPAS StartedAt: 2025-02-19 16:09:54 -0500 (Wed, 19 Feb 2025) EndedAt: 2025-02-19 16:11:05 -0500 (Wed, 19 Feb 2025) EllapsedTime: 70.9 seconds RetCode: 0 Status: OK