Package: InPAS Version: 2.15.2 Command: rm -rf InPAS.buildbin-libdir && mkdir InPAS.buildbin-libdir && E:\biocbuild\bbs-3.21-bioc\R\bin\R.exe CMD INSTALL --build --library=InPAS.buildbin-libdir InPAS_2.15.2.tar.gz StartedAt: 2025-02-20 08:00:23 -0500 (Thu, 20 Feb 2025) EndedAt: 2025-02-20 08:01:50 -0500 (Thu, 20 Feb 2025) EllapsedTime: 87.0 seconds RetCode: 0 Status: OK PackageFile: InPAS_2.15.2.zip PackageFileSize: 3.321 MiB