Package: InPAS Version: 2.15.2 Command: /Library/Frameworks/R.framework/Resources/bin/R CMD build --keep-empty-dirs --no-resave-data InPAS StartedAt: 2025-02-19 17:05:24 -0500 (Wed, 19 Feb 2025) EndedAt: 2025-02-19 17:08:31 -0500 (Wed, 19 Feb 2025) EllapsedTime: 186.5 seconds RetCode: 0 Status: OK PackageFile: InPAS_2.15.2.tar.gz PackageFileSize: 1.435 MiB