Package: InPAS Version: 2.15.2 Command: rm -rf InPAS.buildbin-libdir && mkdir InPAS.buildbin-libdir && /Users/biocbuild/BBS/utils/build-universal.sh InPAS_2.15.2.tar.gz /Library/Frameworks/R.framework/Resources/bin/R InPAS.buildbin-libdir StartedAt: 2025-02-20 00:37:21 -0500 (Thu, 20 Feb 2025) EndedAt: 2025-02-20 00:38:27 -0500 (Thu, 20 Feb 2025) EllapsedTime: 65.6 seconds RetCode: 0 Status: OK PackageFile: InPAS_2.15.2.tgz PackageFileSize: 3.439 MiB