Package: InPAS Version: 2.15.2 Command: /Library/Frameworks/R.framework/Resources/bin/R CMD INSTALL InPAS StartedAt: 2025-02-19 15:13:15 -0500 (Wed, 19 Feb 2025) EndedAt: 2025-02-19 15:13:33 -0500 (Wed, 19 Feb 2025) EllapsedTime: 18.5 seconds RetCode: 0 Status: OK