Package: IgGeneUsage Version: 1.21.0 Command: /home/biocbuild/bbs-3.21-bioc/R/bin/R CMD build --keep-empty-dirs --no-resave-data IgGeneUsage StartedAt: 2025-02-20 17:51:16 -0500 (Thu, 20 Feb 2025) EndedAt: 2025-02-20 18:08:01 -0500 (Thu, 20 Feb 2025) EllapsedTime: 1004.3 seconds RetCode: 0 Status: OK PackageFile: IgGeneUsage_1.21.0.tar.gz PackageFileSize: 1.29 MiB