Package: IgGeneUsage Version: 1.21.0 Command: rm -rf IgGeneUsage.buildbin-libdir && mkdir IgGeneUsage.buildbin-libdir && /Users/biocbuild/BBS/utils/build-universal.sh IgGeneUsage_1.21.0.tar.gz /Library/Frameworks/R.framework/Resources/bin/R IgGeneUsage.buildbin-libdir StartedAt: 2025-02-20 00:37:03 -0500 (Thu, 20 Feb 2025) EndedAt: 2025-02-20 00:47:42 -0500 (Thu, 20 Feb 2025) EllapsedTime: 639.7 seconds RetCode: 0 Status: OK PackageFile: IgGeneUsage_1.21.0.tgz PackageFileSize: 3.259 MiB