Package: IgGeneUsage Version: 1.21.0 Command: /Library/Frameworks/R.framework/Resources/bin/R CMD check --install=check:IgGeneUsage.install-out.txt --library=/Library/Frameworks/R.framework/Resources/library --no-vignettes --timings IgGeneUsage_1.21.0.tar.gz StartedAt: 2025-02-20 19:45:23 -0500 (Thu, 20 Feb 2025) EndedAt: 2025-02-20 19:48:57 -0500 (Thu, 20 Feb 2025) EllapsedTime: 213.6 seconds RetCode: 0 Status: OK CheckDir: IgGeneUsage.Rcheck Warnings: 0