Package: IdeoViz Version: 1.43.0 Command: E:\biocbuild\bbs-3.21-bioc\R\bin\R.exe CMD INSTALL IdeoViz StartedAt: 2025-02-20 16:18:16 -0500 (Thu, 20 Feb 2025) EndedAt: 2025-02-20 16:18:55 -0500 (Thu, 20 Feb 2025) EllapsedTime: 39.5 seconds RetCode: 0 Status: OK