Package: IdeoViz Version: 1.43.0 Command: chmod a+r IdeoViz -R && E:\biocbuild\bbs-3.21-bioc\R\bin\R.exe CMD build --keep-empty-dirs --no-resave-data IdeoViz StartedAt: 2025-02-20 19:22:55 -0500 (Thu, 20 Feb 2025) EndedAt: 2025-02-20 19:22:58 -0500 (Thu, 20 Feb 2025) EllapsedTime: 2.6 seconds RetCode: 0 Status: OK PackageFile: IdeoViz_1.43.0.tar.gz PackageFileSize: 411.7 KiB